BEGIN:VCALENDAR
VERSION:2.0
PRODID:-//wp-events-plugin.com//6.6.3//EN
TZID:Asia/Tokyo
X-WR-TIMEZONE:Asia/Tokyo
BEGIN:VEVENT
UID:10@micchanchi-yoga.com
DTSTART;TZID=Asia/Tokyo:20221019T093000
DTEND;TZID=Asia/Tokyo:20221019T101500
DTSTAMP:20221117T085228Z
URL:https://micchanchi-yoga.com/events/event-252/
SUMMARY:ヨガサークル
DESCRIPTION:こんばんは&#x263a\;&#xfe0f\;\n\nあっという間に10月
 も半分\nすっかり季節は秋ですね&#x1f917\;\n\n今月も\nヨ
 ガ教室を行います&#x1f9d8\;&#x200d\;&#x2640\;\n\n以下\n先月同
 様のご案内になります\n\n&#x1f341\;&#x1f341\;&#x1f341\;&#x1f341\;
 &#x1f341\;&#x1f341\;&#x1f341\;&#x1f341\;&#x1f341\;\n\nヨガが初めて
 の方も\n運動が久しぶりの方も\n一緒に体を動かしてみ
 ませんか\n\nゆっくり深呼吸して\nやさしく体を伸ばし
 て行くと\n体のすみずみに\n酸素やエネルギーが\n行き
 渡るでしょう\n\n今回は乳がんの方だけでは\nないんで
 すが\nシニアの方もいらっしゃって\nやさしい感じのヨ
 ガになると\n思いますので\n初めての方も\nお気軽にお
 越し下さい&#x1f604\;\n\n体調が心配な場合は\nキャンセル
 も大丈夫ですし\n途中で横になったり\n帰って頂いても
 大丈夫です\n\n付き添いや子供さん連れも\nご相談下さ
 い\n\n感染対策は万全を期して\n行います\n\n一応事前の
 お申し込みを\nDMよりお願い致します&#x1f917\;&#x1f33a\;\n\n
 心よりお待ちしております\n\n&#x1f33f\;&#x1f33f\;&#x1f33f\;&#x1
 f33f\;&#x1f33f\;&#x1f33f\;&#x1f33f\;&#x1f33f\;&#x1f33f\;&#x1f33f\;&#x1f33f
 \;\n\nヨガサークル♡\n\n&#x2600\;&#xfe0f\;日時　　10月19日㈬
 \n11月2日㈬\n　１回目　9:30〜10:15　\n　　　ゆったりタ
 イ式ヨガ\n　２回目　10:30〜11:30　\n　　　ゆったりゆる
 むヨガ\n\n&#x2600\;&#xfe0f\;会場　\n　　霞城公民館(山形市
 城西町)\n　　　　２階研修室２(和室)\n\n&#x2600\;&#xfe0f\;
 会費\n　　１回500円　２回1000円\n\n&#x2600\;&#xfe0f\;持ち物
 　\n　　あればヨガマット\n　　　なければバスタオル\
 n　　　(忘れたらお貸しします)\n　　飲み物\n　　動き
 やすい服装\n　　マスク\n\n&#x2600\;&#xfe0f\;申込み　\n　　
 前日までDMか長沼へ\n　(名簿作成の為と中止の場合の連
 絡のため、お名前・住所・連絡先をお知らせ下さい。
 お預かりした情報は今回のサークルでのみ使用させて
 頂きます)\n\n&#x2600\;&#xfe0f\;コロナ関係のお願い\n　・マ
 スクの着用をお願いします\n　・風邪症状や発熱がある
 場合、濃厚接触者の場合\n　　(同居の方も)参加できま
 せん\n　・当日朝体温を測ってきて頂き、参加前にお知
 らせ　　\n　　下さい\n　・その他２週間以内に感染が
 心配な場所へ行ったなど、疑わしい場合は、今回は参
 加をお控え下さい\n\n　　以上お手数をおかけしますが
 安心安全のために\nご協力をお願い致します&#x1f60c\;
CATEGORIES:ヨガサークル
END:VEVENT
BEGIN:VTIMEZONE
TZID:Asia/Tokyo
X-LIC-LOCATION:Asia/Tokyo
BEGIN:STANDARD
DTSTART:20211019T093000
TZOFFSETFROM:+0900
TZOFFSETTO:+0900
TZNAME:JST
END:STANDARD
END:VTIMEZONE
END:VCALENDAR